BEGIN:VCALENDAR
VERSION:2.0
PRODID:-//NJ Wireless Association - ECPv6.15.20//NONSGML v1.0//EN
CALSCALE:GREGORIAN
METHOD:PUBLISH
X-ORIGINAL-URL:https://newjerseywireless.org
X-WR-CALDESC:Events for NJ Wireless Association
REFRESH-INTERVAL;VALUE=DURATION:PT1H
X-Robots-Tag:noindex
X-PUBLISHED-TTL:PT1H
BEGIN:VTIMEZONE
TZID:America/New_York
BEGIN:DAYLIGHT
TZOFFSETFROM:-0500
TZOFFSETTO:-0400
TZNAME:EDT
DTSTART:20220313T070000
END:DAYLIGHT
BEGIN:STANDARD
TZOFFSETFROM:-0400
TZOFFSETTO:-0500
TZNAME:EST
DTSTART:20221106T060000
END:STANDARD
BEGIN:DAYLIGHT
TZOFFSETFROM:-0500
TZOFFSETTO:-0400
TZNAME:EDT
DTSTART:20230312T070000
END:DAYLIGHT
BEGIN:STANDARD
TZOFFSETFROM:-0400
TZOFFSETTO:-0500
TZNAME:EST
DTSTART:20231105T060000
END:STANDARD
BEGIN:DAYLIGHT
TZOFFSETFROM:-0500
TZOFFSETTO:-0400
TZNAME:EDT
DTSTART:20240310T070000
END:DAYLIGHT
BEGIN:STANDARD
TZOFFSETFROM:-0400
TZOFFSETTO:-0500
TZNAME:EST
DTSTART:20241103T060000
END:STANDARD
END:VTIMEZONE
BEGIN:VEVENT
DTSTART;VALUE=DATE:20231115
DTEND;VALUE=DATE:20231116
DTSTAMP:20260421T222840
CREATED:20230405T134412Z
LAST-MODIFIED:20231020T123021Z
UID:10000015-1700006400-1700092799@newjerseywireless.org
SUMMARY:Annual Holiday Party
DESCRIPTION:Registration Now Open Annual Holiday Social\nKick-off your Holiday Season at the NJWA Annual Holiday Social at the Hard Rock Hotel & Casino in Atlantic City on Wednesday\, November 15th! Join us in Hard Rock’s Sound Waves theater to eat\, drink\, dance and greet. It is the perfect space to accommodate the 400+ attendees and rock to the wireless industry’s best band – The Band Plan! \nThank you to our Sponsors!
URL:https://newjerseywireless.org/event/annual-holiday-party/
LOCATION:Hard Rock Hotel & Casino\, 1000 Boardwalk\, Atlantic City\, NJ\, 08401\, United States
CATEGORIES:NJWA Events
ATTACH;FMTTYPE=image/jpeg:https://newjerseywireless.org/wp-content/uploads/2023/04/holiday-partay.jpg
GEO:39.3599884;-74.4212353
X-APPLE-STRUCTURED-LOCATION;VALUE=URI;X-ADDRESS=Hard Rock Hotel & Casino 1000 Boardwalk Atlantic City NJ 08401 United States;X-APPLE-RADIUS=500;X-TITLE=1000 Boardwalk:geo:-74.4212353,39.3599884
END:VEVENT
END:VCALENDAR