BEGIN:VCALENDAR
VERSION:2.0
PRODID:-//NJ Wireless Association - ECPv6.15.20//NONSGML v1.0//EN
CALSCALE:GREGORIAN
METHOD:PUBLISH
X-WR-CALNAME:NJ Wireless Association
X-ORIGINAL-URL:https://newjerseywireless.org
X-WR-CALDESC:Events for NJ Wireless Association
REFRESH-INTERVAL;VALUE=DURATION:PT1H
X-Robots-Tag:noindex
X-PUBLISHED-TTL:PT1H
BEGIN:VTIMEZONE
TZID:America/New_York
BEGIN:DAYLIGHT
TZOFFSETFROM:-0500
TZOFFSETTO:-0400
TZNAME:EDT
DTSTART:20220313T070000
END:DAYLIGHT
BEGIN:STANDARD
TZOFFSETFROM:-0400
TZOFFSETTO:-0500
TZNAME:EST
DTSTART:20221106T060000
END:STANDARD
BEGIN:DAYLIGHT
TZOFFSETFROM:-0500
TZOFFSETTO:-0400
TZNAME:EDT
DTSTART:20230312T070000
END:DAYLIGHT
BEGIN:STANDARD
TZOFFSETFROM:-0400
TZOFFSETTO:-0500
TZNAME:EST
DTSTART:20231105T060000
END:STANDARD
BEGIN:DAYLIGHT
TZOFFSETFROM:-0500
TZOFFSETTO:-0400
TZNAME:EDT
DTSTART:20240310T070000
END:DAYLIGHT
BEGIN:STANDARD
TZOFFSETFROM:-0400
TZOFFSETTO:-0500
TZNAME:EST
DTSTART:20241103T060000
END:STANDARD
END:VTIMEZONE
BEGIN:VEVENT
DTSTART;TZID=America/New_York:20230613T073000
DTEND;TZID=America/New_York:20230613T153000
DTSTAMP:20260423T042455
CREATED:20230503T182248Z
LAST-MODIFIED:20230615T134725Z
UID:10000016-1686641400-1686670200@newjerseywireless.org
SUMMARY:17th Annual Charity Golf Outing
DESCRIPTION:It’s time to grip it and rip it with your NJWA friends on Tuesday\, June 13th at Forsgate Country Club and Rossmoor Golf Course in Monroe Township\, NJ! Click here to register. \n7:30 AM – Range & Registration Open\n7:30 AM – Breakfast\, Coffee\, Juice\n7:30 AM – Bloody Mary/Mimosa Service\n9:30 AM – Shotgun Start (15 minutes per hole is the goal. Pick up if not putting for par or bogey)\n2:00 – 3:30 PM – Lunch & Hosted Happy Hour\n \nTHANK YOU TO OUR SPONSORS:
URL:https://newjerseywireless.org/event/17th-annual-charity-golf-outing/
LOCATION:Forsgate Country Club\, 375 Forsgate Dr\, Monroe Townshop\, NJ\, 08831\, United States
CATEGORIES:NJWA Events
GEO:40.342814;-74.4621109
X-APPLE-STRUCTURED-LOCATION;VALUE=URI;X-ADDRESS=Forsgate Country Club 375 Forsgate Dr Monroe Townshop NJ 08831 United States;X-APPLE-RADIUS=500;X-TITLE=375 Forsgate Dr:geo:-74.4621109,40.342814
END:VEVENT
END:VCALENDAR